BEGIN:VCALENDAR
VERSION:2.0
PRODID:-//First Romanian Baptist Church of Atlanta - ECPv6.15.17.1//NONSGML v1.0//EN
CALSCALE:GREGORIAN
METHOD:PUBLISH
X-WR-CALNAME:First Romanian Baptist Church of Atlanta
X-ORIGINAL-URL:https://frbcatlanta.com
X-WR-CALDESC:Events for First Romanian Baptist Church of Atlanta
REFRESH-INTERVAL;VALUE=DURATION:PT1H
X-Robots-Tag:noindex
X-PUBLISHED-TTL:PT1H
BEGIN:VTIMEZONE
TZID:America/New_York
BEGIN:DAYLIGHT
TZOFFSETFROM:-0500
TZOFFSETTO:-0400
TZNAME:EDT
DTSTART:20250309T070000
END:DAYLIGHT
BEGIN:STANDARD
TZOFFSETFROM:-0400
TZOFFSETTO:-0500
TZNAME:EST
DTSTART:20251102T060000
END:STANDARD
BEGIN:DAYLIGHT
TZOFFSETFROM:-0500
TZOFFSETTO:-0400
TZNAME:EDT
DTSTART:20260308T070000
END:DAYLIGHT
BEGIN:STANDARD
TZOFFSETFROM:-0400
TZOFFSETTO:-0500
TZNAME:EST
DTSTART:20261101T060000
END:STANDARD
BEGIN:DAYLIGHT
TZOFFSETFROM:-0500
TZOFFSETTO:-0400
TZNAME:EDT
DTSTART:20270314T070000
END:DAYLIGHT
BEGIN:STANDARD
TZOFFSETFROM:-0400
TZOFFSETTO:-0500
TZNAME:EST
DTSTART:20271107T060000
END:STANDARD
END:VTIMEZONE
BEGIN:VEVENT
DTSTART;TZID=America/New_York:20260314T160000
DTEND;TZID=America/New_York:20260314T220000
DTSTAMP:20260424T115406
CREATED:20260122T142444Z
LAST-MODIFIED:20260122T142444Z
UID:7014-1773504000-1773525600@frbcatlanta.com
SUMMARY:Baby Shower
DESCRIPTION:
URL:https://frbcatlanta.com/calendar/baby-shower/
LOCATION:First Romanian Baptist Church of Atlanta\, 1280 Lawrenceville-Suwanee RD.\, Lavrenceville\, GA\, 30043\, United States
END:VEVENT
BEGIN:VEVENT
DTSTART;TZID=America/New_York:20260320T180000
DTEND;TZID=America/New_York:20260320T200000
DTSTAMP:20260424T115406
CREATED:20260317T230425Z
LAST-MODIFIED:20260317T230425Z
UID:7088-1774029600-1774036800@frbcatlanta.com
SUMMARY:Priveghiul fratelui Ioan Povian
DESCRIPTION:
URL:https://frbcatlanta.com/calendar/priveghiul-fratelui-ioan-povian/
LOCATION:Flanigan Funeral Home and Crematory\, 4400 S Lee St\, Buford\, GA\, 30518\, United States
CATEGORIES:Funeral
END:VEVENT
BEGIN:VEVENT
DTSTART;TZID=America/New_York:20260321T130000
DTEND;TZID=America/New_York:20260321T150000
DTSTAMP:20260424T115406
CREATED:20260317T230524Z
LAST-MODIFIED:20260317T230524Z
UID:7090-1774098000-1774105200@frbcatlanta.com
SUMMARY:Înmormântarea fratelui Ioan Povian
DESCRIPTION:
URL:https://frbcatlanta.com/calendar/inmormantarea-fratelui-ioan-povian/
LOCATION:Flanigan Funeral Home and Crematory\, 4400 S Lee St\, Buford\, GA\, 30518\, United States
CATEGORIES:Funeral
END:VEVENT
END:VCALENDAR